BEGIN:VCALENDAR
VERSION:2.0
PRODID:-//Dab Rite Invitational - ECPv6.15.14//NONSGML v1.0//EN
CALSCALE:GREGORIAN
METHOD:PUBLISH
X-WR-CALNAME:Dab Rite Invitational
X-ORIGINAL-URL:https://dabritecup.com
X-WR-CALDESC:Events for Dab Rite Invitational
REFRESH-INTERVAL;VALUE=DURATION:PT1H
X-Robots-Tag:noindex
X-PUBLISHED-TTL:PT1H
BEGIN:VTIMEZONE
TZID:America/Los_Angeles
BEGIN:DAYLIGHT
TZOFFSETFROM:-0800
TZOFFSETTO:-0700
TZNAME:PDT
DTSTART:20250309T100000
END:DAYLIGHT
BEGIN:STANDARD
TZOFFSETFROM:-0700
TZOFFSETTO:-0800
TZNAME:PST
DTSTART:20251102T090000
END:STANDARD
BEGIN:DAYLIGHT
TZOFFSETFROM:-0800
TZOFFSETTO:-0700
TZNAME:PDT
DTSTART:20260308T100000
END:DAYLIGHT
BEGIN:STANDARD
TZOFFSETFROM:-0700
TZOFFSETTO:-0800
TZNAME:PST
DTSTART:20261101T090000
END:STANDARD
BEGIN:DAYLIGHT
TZOFFSETFROM:-0800
TZOFFSETTO:-0700
TZNAME:PDT
DTSTART:20270314T100000
END:DAYLIGHT
BEGIN:STANDARD
TZOFFSETFROM:-0700
TZOFFSETTO:-0800
TZNAME:PST
DTSTART:20271107T090000
END:STANDARD
END:VTIMEZONE
BEGIN:VTIMEZONE
TZID:America/New_York
BEGIN:DAYLIGHT
TZOFFSETFROM:-0500
TZOFFSETTO:-0400
TZNAME:EDT
DTSTART:20230312T070000
END:DAYLIGHT
BEGIN:STANDARD
TZOFFSETFROM:-0400
TZOFFSETTO:-0500
TZNAME:EST
DTSTART:20231105T060000
END:STANDARD
BEGIN:DAYLIGHT
TZOFFSETFROM:-0500
TZOFFSETTO:-0400
TZNAME:EDT
DTSTART:20240310T070000
END:DAYLIGHT
BEGIN:STANDARD
TZOFFSETFROM:-0400
TZOFFSETTO:-0500
TZNAME:EST
DTSTART:20241103T060000
END:STANDARD
BEGIN:DAYLIGHT
TZOFFSETFROM:-0500
TZOFFSETTO:-0400
TZNAME:EDT
DTSTART:20250309T070000
END:DAYLIGHT
BEGIN:STANDARD
TZOFFSETFROM:-0400
TZOFFSETTO:-0500
TZNAME:EST
DTSTART:20251102T060000
END:STANDARD
BEGIN:DAYLIGHT
TZOFFSETFROM:-0500
TZOFFSETTO:-0400
TZNAME:EDT
DTSTART:20260308T070000
END:DAYLIGHT
BEGIN:STANDARD
TZOFFSETFROM:-0400
TZOFFSETTO:-0500
TZNAME:EST
DTSTART:20261101T060000
END:STANDARD
END:VTIMEZONE
BEGIN:VTIMEZONE
TZID:America/Phoenix
BEGIN:STANDARD
TZOFFSETFROM:-0700
TZOFFSETTO:-0700
TZNAME:MST
DTSTART:20230101T000000
END:STANDARD
END:VTIMEZONE
BEGIN:VEVENT
DTSTART;TZID=America/Los_Angeles:20260125T160000
DTEND;TZID=America/Los_Angeles:20260125T220000
DTSTAMP:20260423T073340
CREATED:20260107T162441Z
LAST-MODIFIED:20260125T152550Z
UID:1990-1769356800-1769378400@dabritecup.com
SUMMARY:Single Source Cup
DESCRIPTION:Dab Rite Single Source Cup Ticket holders will have access to try competition entries at the dab bar and vote on People’s Choice. Food\, drinks(water/soda)\, sesh area/vendor access will be included. The event will be taking place in Los Angeles\, CA\, at Lifted Veil Gallery. \n\nAddress and other relevant details will be emailed to attendees the day before the event. \n\n\nALL SALES ARE FINAL. NO REFUNDS WILL BE GIVEN. If you have any questions\, please email us DabRiteCup@gmail.com.
URL:https://dabritecup.com/event/single-source-cup/
LOCATION:Lifted Veil Gallery\, 530 Main Street\, Los Angeles\, CA\, 90013\, United States
END:VEVENT
BEGIN:VEVENT
DTSTART;TZID=America/New_York:20251101T160000
DTEND;TZID=America/New_York:20251101T220000
DTSTAMP:20260423T073340
CREATED:20250627T164656Z
LAST-MODIFIED:20251102T010128Z
UID:1905-1762012800-1762034400@dabritecup.com
SUMMARY:Regionals Finale
DESCRIPTION:Dab Rite Regionals FINALE. Ticket holders will have access to try competition entries at the dab bar and vote on People’s Choice. Food\, drinks(water/soda)\, sesh area/vendor access will be included. The event will be taking place in Los Angeles\, CA\, at Lifted Veil Gallery. \n\nAddress and other relevant details will be emailed to attendees the day before the event. \n\n\nALL SALES ARE FINAL. NO REFUNDS WILL BE GIVEN. If you have any questions\, please email us DabRiteCup@gmail.com.
URL:https://dabritecup.com/event/regionals-finale/
LOCATION:Lifted Veil Gallery\, 530 Main Street\, Los Angeles\, CA\, 90013\, United States
END:VEVENT
BEGIN:VEVENT
DTSTART;TZID=America/New_York:20250607T170000
DTEND;TZID=America/New_York:20250607T220000
DTSTAMP:20260423T073340
CREATED:20250407T161245Z
LAST-MODIFIED:20250607T172358Z
UID:1677-1749315600-1749333600@dabritecup.com
SUMMARY:Tri-State Regionals
DESCRIPTION:VIP Ticket holders will have access to try competition entries at the VIP dab bar and voting on People’s Choice. Food\, drinks(water/soda)\, sesh area/vendor access will be included. GA has access to the event and vendors. The event will be taking place in Newark\, NJ. The location’s address will be emailed to attendees a day before the event. \n\n\n\nALL SALES ARE FINAL. NO REFUNDS WILL BE GIVEN. If you have any questions\, please email us DabRiteCup@gmail.com
URL:https://dabritecup.com/event/tri-state-regionals/
LOCATION:Newark\, NJ
END:VEVENT
BEGIN:VEVENT
DTSTART;TZID=America/New_York:20250405T170000
DTEND;TZID=America/New_York:20250405T220000
DTSTAMP:20260423T073340
CREATED:20250310T171818Z
LAST-MODIFIED:20250405T162826Z
UID:1453-1743872400-1743890400@dabritecup.com
SUMMARY:South Regionals
DESCRIPTION:VIP Ticket holders will have access to try competition entries at the VIP dab bar and voting on People’s Choice. Food\, drinks(water/soda)\, sesh area/vendor access will be included. GA has access to the event and vendors. The event will be taking place at Casa De Cristal in Miami\, FL. The location’s address will be emailed to attendees a day before the event. \n\n\n\nALL SALES ARE FINAL. NO REFUNDS WILL BE GIVEN. If you have any questions\, please email us DabRiteCup@gmail.com
URL:https://dabritecup.com/event/south-regionals/
LOCATION:Miami\, FL
END:VEVENT
BEGIN:VEVENT
DTSTART;TZID=America/New_York:20250301T170000
DTEND;TZID=America/New_York:20250301T220000
DTSTAMP:20260423T073340
CREATED:20250220T011543Z
LAST-MODIFIED:20250220T011543Z
UID:1287-1740848400-1740866400@dabritecup.com
SUMMARY:Northwest Regionals
DESCRIPTION:Access to try competition entries at the VIP dab bar and voting on People’s Choice. Food\, drinks(water/soda)\, sesh area/vendor access will be included. Event will be taking place in Portland\, OR. The location’s address will be emailed to attendees a day before the event. \n\n\n\nALL SALES ARE FINAL. NO REFUNDS WILL BE GIVEN. If you have any questions\, please email us DabRiteCup@gmail.com
URL:https://dabritecup.com/event/northwest-regionals/
LOCATION:Portland\, OR
END:VEVENT
BEGIN:VEVENT
DTSTART;TZID=America/New_York:20250222T170000
DTEND;TZID=America/New_York:20250222T220000
DTSTAMP:20260423T073340
CREATED:20250218T052057Z
LAST-MODIFIED:20250222T052116Z
UID:1257-1740243600-1740261600@dabritecup.com
SUMMARY:Southwest Regionals
DESCRIPTION:Access to try competition entries at the VIP dab bar and voting on People’s Choice. Food\, drinks(water/soda)\, sesh area/vendor access will be included. Event will be taking place in Las Vegas\, NV. The location’s address will be emailed to attendees a day before the event. \n\n\n\nALL SALES ARE FINAL. NO REFUNDS WILL BE GIVEN. If you have any questions\, please email us DabRiteCup@gmail.com
URL:https://dabritecup.com/event/southwest-regionals/
LOCATION:Las Vegas\, NV
END:VEVENT
BEGIN:VEVENT
DTSTART;TZID=America/New_York:20250119T170000
DTEND;TZID=America/New_York:20250119T220000
DTSTAMP:20260423T073340
CREATED:20250113T194944Z
LAST-MODIFIED:20250113T194944Z
UID:1222-1737306000-1737324000@dabritecup.com
SUMMARY:Hawai'i Regionals
DESCRIPTION:Access to try competition entries at the VIP dab bar and voting on People’s Choice. Food\, drinks(water/soda)\, sesh area/vendor access will be included. Event will be taking place in Honolulu\, Hawai’i.\n\n\n\nALL SALES ARE FINAL. NO REFUNDS WILL BE GIVEN. If you have any questions please email us DabRiteCup@gmail.com
URL:https://dabritecup.com/event/hawaii-regionals/
LOCATION:Honolulu\, HI
END:VEVENT
BEGIN:VEVENT
DTSTART;TZID=America/New_York:20250105T170000
DTEND;TZID=America/New_York:20250105T220000
DTSTAMP:20260423T073340
CREATED:20241217T042216Z
LAST-MODIFIED:20241221T030934Z
UID:1163-1736096400-1736114400@dabritecup.com
SUMMARY:NorCal Regionals
DESCRIPTION:Access to try competition entries at the VIP dab bar and voting on People’s Choice. Food\, drinks(water/soda)\, sesh area/vendor access will be included. Event will be taking place in San Francisco\, CA.\n\n\n\nALL SALES ARE FINAL. NO REFUNDS WILL BE GIVEN. If you have any questions please email us DabRiteCup@gmail.com \n\n\n 
URL:https://dabritecup.com/event/norcal-regionals/
LOCATION:San Francisco\, CA – TBD\, United States
END:VEVENT
BEGIN:VEVENT
DTSTART;TZID=America/Phoenix:20241124T170000
DTEND;TZID=America/Phoenix:20241124T220000
DTSTAMP:20260423T073341
CREATED:20241106T014947Z
LAST-MODIFIED:20241107T192333Z
UID:1030-1732467600-1732485600@dabritecup.com
SUMMARY:SoCal Regionals
DESCRIPTION:Access to try competition finalist entries at the VIP dab bar and voting on People’s Choice. Heady goodie bag\, food\, drinks(water/soda)\, sesh area/vendor access will be included. Event will be taking place at Lifted Veil Gallery in Los Angeles\, CA.\n\n\n\nALL SALES ARE FINAL. NO REFUNDS WILL BE GIVEN. If you have any questions please email us DabRiteCup@gmail.com \n\n\n 
URL:https://dabritecup.com/event/1030/
LOCATION:Lifted Veil Gallery\, 530 Main Street\, Los Angeles\, CA\, 90013\, United States
END:VEVENT
BEGIN:VEVENT
DTSTART;TZID=America/New_York:20241012T170000
DTEND;TZID=America/New_York:20241012T220000
DTSTAMP:20260423T073341
CREATED:20240926T180124Z
LAST-MODIFIED:20240926T190828Z
UID:882-1728752400-1728770400@dabritecup.com
SUMMARY:Mid-West Regionals
DESCRIPTION:Access to try competition finalist entries at the VIP dab bar and voting on People’s Choice. Food\, drinks(water/soda)\, sesh area/vendor access will be included. Event will be taking place in St. Louis\, MO.\n\n\n\nALL SALES ARE FINAL. NO REFUNDS WILL BE GIVEN. If you have any questions please email us DabRiteCup@gmail.com \n\n\n\n  \n\n\n1.    Consent to Use of Likeness:\nI hereby grant DABRITE\, DABRITE CUP\, UPLATE CRW PRODUCTIONS\, its representatives\, and assigns\, the right to use my name\, voice\, likeness\, image\, and any statements or performances I provide during the event for any lawful purpose\, including but not limited to promotional\, advertising\, and marketing materials\, without further compensation or notification.\n2.    Rights and Ownership:\nI understand that DABRITE\, DABRITE CUP\, UPLATE CRW PRODUCTIONS will own all rights\, title\, and interest in any recordings\, including all video\, audio\, and photographic content captured during the event. I waive any rights I may have to inspect or approve the finished product or the use to which it may be applied.\n3.    Confidentiality:\nI agree to keep confidential and not disclose any information regarding the content or nature of the event until DABRITE\, DABRITE CUP\, UPLATE CRW PRODUCTIONS has publicly released the final product.\n4.    Release of Liability:\nI release DABRITE\, DABRITE CUP\, UPLATE CRW PRODUCTIONS\, its directors\, officers\, employees\, and agents from any and all claims\, demands\, damages\, and causes of action that I\, my heirs\, representatives\, executors\, administrators\, or any other persons acting on my behalf or on behalf of my estate\, have or may have by reason of this authorization.\n5.    No Obligation to Use:\nI understand that DABRITE\, DABRITE CUP\, UPLATE CRW PRODUCTIONS is under no obligation to use any recordings\, photographs\, or other materials that include my likeness or statements.
URL:https://dabritecup.com/event/mid-west-regionals/
LOCATION:St. Louis\, MO
END:VEVENT
BEGIN:VEVENT
DTSTART;TZID=America/New_York:20240915T170000
DTEND;TZID=America/New_York:20240915T220000
DTSTAMP:20260423T073341
CREATED:20240813T181124Z
LAST-MODIFIED:20240813T181124Z
UID:759-1726419600-1726437600@dabritecup.com
SUMMARY:Dab Rite Cup Mid North - VIP
DESCRIPTION:Access to try competition finalist entries at the VIP dab bar and voting on People’s Choice. Food\, drinks(water/soda)\, sesh area/vendor access will be included. Event will be taking place in Ypsilanti\, Michigan at The Depot.\n\n\n\nALL SALES ARE FINAL. NO REFUNDS WILL BE GIVEN. If you have any questions please email us DabRiteCup@gmail.com \n\n\n\n  \n\n\n1.    Consent to Use of Likeness:\nI hereby grant DABRITE\, DABRITE CUP\, UPLATE CRW PRODUCTIONS\, its representatives\, and assigns\, the right to use my name\, voice\, likeness\, image\, and any statements or performances I provide during the event for any lawful purpose\, including but not limited to promotional\, advertising\, and marketing materials\, without further compensation or notification.\n2.    Rights and Ownership:\nI understand that DABRITE\, DABRITE CUP\, UPLATE CRW PRODUCTIONS will own all rights\, title\, and interest in any recordings\, including all video\, audio\, and photographic content captured during the event. I waive any rights I may have to inspect or approve the finished product or the use to which it may be applied.\n3.    Confidentiality:\nI agree to keep confidential and not disclose any information regarding the content or nature of the event until DABRITE\, DABRITE CUP\, UPLATE CRW PRODUCTIONS has publicly released the final product.\n4.    Release of Liability:\nI release DABRITE\, DABRITE CUP\, UPLATE CRW PRODUCTIONS\, its directors\, officers\, employees\, and agents from any and all claims\, demands\, damages\, and causes of action that I\, my heirs\, representatives\, executors\, administrators\, or any other persons acting on my behalf or on behalf of my estate\, have or may have by reason of this authorization.\n5.    No Obligation to Use:\nI understand that DABRITE\, DABRITE CUP\, UPLATE CRW PRODUCTIONS is under no obligation to use any recordings\, photographs\, or other materials that include my likeness or statements.
URL:https://dabritecup.com/event/dab-rite-cup-mid-north-vip/
LOCATION:Ypsilanti\, Michigan @ The Depot\, 11 E Cross St\, Ypsilanti\, MI\, 48198\, United States
END:VEVENT
BEGIN:VEVENT
DTSTART;TZID=America/New_York:20240803T140000
DTEND;TZID=America/New_York:20240804T220000
DTSTAMP:20260423T073341
CREATED:20240703T052919Z
LAST-MODIFIED:20240802T183710Z
UID:547-1722693600-1722808800@dabritecup.com
SUMMARY:North East Regionals VIP
DESCRIPTION:Access to try competition entries and voting on People’s Choice. Food\, drinks(water/soda)\, sesh area/vendor access will be included. Event will be taking place near Spencer\, Massachusetts. \nEmails will be sent out for location and information about the event\, so keep a lookout for an email a few days before the event. \nALL SALES ARE FINAL. NO REFUNDS WILL BE GIVEN. If you have any questions please email us DabRiteCup@gmail.com \n\n\n\n  \n\n\n1.    Consent to Use of Likeness:\nI hereby grant DABRITE\, DABRITE CUP\, UPLATE CRW PRODUCTIONS\, its representatives\, and assigns\, the right to use my name\, voice\, likeness\, image\, and any statements or performances I provide during the event for any lawful purpose\, including but not limited to promotional\, advertising\, and marketing materials\, without further compensation or notification.\n2.    Rights and Ownership:\nI understand that DABRITE\, DABRITE CUP\, UPLATE CRW PRODUCTIONS will own all rights\, title\, and interest in any recordings\, including all video\, audio\, and photographic content captured during the event. I waive any rights I may have to inspect or approve the finished product or the use to which it may be applied.\n3.    Confidentiality:\nI agree to keep confidential and not disclose any information regarding the content or nature of the event until DABRITE\, DABRITE CUP\, UPLATE CRW PRODUCTIONS has publicly released the final product.\n4.    Release of Liability:\nI release DABRITE\, DABRITE CUP\, UPLATE CRW PRODUCTIONS\, its directors\, officers\, employees\, and agents from any and all claims\, demands\, damages\, and causes of action that I\, my heirs\, representatives\, executors\, administrators\, or any other persons acting on my behalf or on behalf of my estate\, have or may have by reason of this authorization.\n5.    No Obligation to Use:\nI understand that DABRITE\, DABRITE CUP\, UPLATE CRW PRODUCTIONS is under no obligation to use any recordings\, photographs\, or other materials that include my likeness or statements.
URL:https://dabritecup.com/event/north-east-regionals-vip/
LOCATION:Near Spencer\, Massachusetts
END:VEVENT
BEGIN:VEVENT
DTSTART;TZID=America/New_York:20240714T170000
DTEND;TZID=America/New_York:20240714T220000
DTSTAMP:20260423T073341
CREATED:20240613T194259Z
LAST-MODIFIED:20240704T101119Z
UID:516-1720976400-1720994400@dabritecup.com
SUMMARY:Alaska Regional VIP
DESCRIPTION:Access to try competition entries and voting on People’s Choice. Food\, drinks\, and sesh area will be included. \nEmails will be sent out for location and information about the event\, so keep a lookout for an email a few days before the event. \nALL SALES ARE FINAL. NO REFUNDS WILL BE GIVEN. If you have any questions please email us DabRiteCup@gmail.com \n\n\n\n  \n\n\n1.    Consent to Use of Likeness:\nI hereby grant DABRITE\, DABRITE CUP\, UPLATE CRW PRODUCTIONS\, its representatives\, and assigns\, the right to use my name\, voice\, likeness\, image\, and any statements or performances I provide during the event for any lawful purpose\, including but not limited to promotional\, advertising\, and marketing materials\, without further compensation or notification.\n2.    Rights and Ownership:\nI understand that DABRITE\, DABRITE CUP\, UPLATE CRW PRODUCTIONS will own all rights\, title\, and interest in any recordings\, including all video\, audio\, and photographic content captured during the event. I waive any rights I may have to inspect or approve the finished product or the use to which it may be applied.\n3.    Confidentiality:\nI agree to keep confidential and not disclose any information regarding the content or nature of the event until DABRITE\, DABRITE CUP\, UPLATE CRW PRODUCTIONS has publicly released the final product.\n4.    Release of Liability:\nI release DABRITE\, DABRITE CUP\, UPLATE CRW PRODUCTIONS\, its directors\, officers\, employees\, and agents from any and all claims\, demands\, damages\, and causes of action that I\, my heirs\, representatives\, executors\, administrators\, or any other persons acting on my behalf or on behalf of my estate\, have or may have by reason of this authorization.\n5.    No Obligation to Use:\nI understand that DABRITE\, DABRITE CUP\, UPLATE CRW PRODUCTIONS is under no obligation to use any recordings\, photographs\, or other materials that include my likeness or statements. \n\n\n\n\n\n\n\n\n\n\n\n 
URL:https://dabritecup.com/event/alaska-regional/
LOCATION:Anchorage\, AK – TBA
END:VEVENT
BEGIN:VEVENT
DTSTART;TZID=America/New_York:20240601T170000
DTEND;TZID=America/New_York:20240601T220000
DTSTAMP:20260423T073341
CREATED:20240522T214656Z
LAST-MODIFIED:20240601T080749Z
UID:357-1717261200-1717279200@dabritecup.com
SUMMARY:Colorado Regional
DESCRIPTION:Main Event GA – Access to vendors and voting on People’s Choice plus food\, drinks\, and sesh area.
URL:https://dabritecup.com/event/colorado-regional/
LOCATION:South Denver – Near Denver University\, United States
END:VEVENT
END:VCALENDAR