BEGIN:VCALENDAR
VERSION:2.0
PRODID:-//Dab Rite Invitational - ECPv6.15.14//NONSGML v1.0//EN
CALSCALE:GREGORIAN
METHOD:PUBLISH
X-WR-CALNAME:Dab Rite Invitational
X-ORIGINAL-URL:https://dabritecup.com
X-WR-CALDESC:Events for Dab Rite Invitational
REFRESH-INTERVAL;VALUE=DURATION:PT1H
X-Robots-Tag:noindex
X-PUBLISHED-TTL:PT1H
BEGIN:VTIMEZONE
TZID:America/New_York
BEGIN:DAYLIGHT
TZOFFSETFROM:-0500
TZOFFSETTO:-0400
TZNAME:EDT
DTSTART:20230312T070000
END:DAYLIGHT
BEGIN:STANDARD
TZOFFSETFROM:-0400
TZOFFSETTO:-0500
TZNAME:EST
DTSTART:20231105T060000
END:STANDARD
BEGIN:DAYLIGHT
TZOFFSETFROM:-0500
TZOFFSETTO:-0400
TZNAME:EDT
DTSTART:20240310T070000
END:DAYLIGHT
BEGIN:STANDARD
TZOFFSETFROM:-0400
TZOFFSETTO:-0500
TZNAME:EST
DTSTART:20241103T060000
END:STANDARD
BEGIN:DAYLIGHT
TZOFFSETFROM:-0500
TZOFFSETTO:-0400
TZNAME:EDT
DTSTART:20250309T070000
END:DAYLIGHT
BEGIN:STANDARD
TZOFFSETFROM:-0400
TZOFFSETTO:-0500
TZNAME:EST
DTSTART:20251102T060000
END:STANDARD
END:VTIMEZONE
BEGIN:VEVENT
DTSTART;TZID=America/New_York:20240915T170000
DTEND;TZID=America/New_York:20240915T220000
DTSTAMP:20260423T085033
CREATED:20240813T181124Z
LAST-MODIFIED:20240813T181124Z
UID:759-1726419600-1726437600@dabritecup.com
SUMMARY:Dab Rite Cup Mid North - VIP
DESCRIPTION:Access to try competition finalist entries at the VIP dab bar and voting on People’s Choice. Food\, drinks(water/soda)\, sesh area/vendor access will be included. Event will be taking place in Ypsilanti\, Michigan at The Depot.\n\n\n\nALL SALES ARE FINAL. NO REFUNDS WILL BE GIVEN. If you have any questions please email us DabRiteCup@gmail.com \n\n\n\n  \n\n\n1.    Consent to Use of Likeness:\nI hereby grant DABRITE\, DABRITE CUP\, UPLATE CRW PRODUCTIONS\, its representatives\, and assigns\, the right to use my name\, voice\, likeness\, image\, and any statements or performances I provide during the event for any lawful purpose\, including but not limited to promotional\, advertising\, and marketing materials\, without further compensation or notification.\n2.    Rights and Ownership:\nI understand that DABRITE\, DABRITE CUP\, UPLATE CRW PRODUCTIONS will own all rights\, title\, and interest in any recordings\, including all video\, audio\, and photographic content captured during the event. I waive any rights I may have to inspect or approve the finished product or the use to which it may be applied.\n3.    Confidentiality:\nI agree to keep confidential and not disclose any information regarding the content or nature of the event until DABRITE\, DABRITE CUP\, UPLATE CRW PRODUCTIONS has publicly released the final product.\n4.    Release of Liability:\nI release DABRITE\, DABRITE CUP\, UPLATE CRW PRODUCTIONS\, its directors\, officers\, employees\, and agents from any and all claims\, demands\, damages\, and causes of action that I\, my heirs\, representatives\, executors\, administrators\, or any other persons acting on my behalf or on behalf of my estate\, have or may have by reason of this authorization.\n5.    No Obligation to Use:\nI understand that DABRITE\, DABRITE CUP\, UPLATE CRW PRODUCTIONS is under no obligation to use any recordings\, photographs\, or other materials that include my likeness or statements.
URL:https://dabritecup.com/event/dab-rite-cup-mid-north-vip/
LOCATION:Ypsilanti\, Michigan @ The Depot\, 11 E Cross St\, Ypsilanti\, MI\, 48198\, United States
END:VEVENT
BEGIN:VEVENT
DTSTART;TZID=America/New_York:20240803T140000
DTEND;TZID=America/New_York:20240804T220000
DTSTAMP:20260423T085033
CREATED:20240703T052919Z
LAST-MODIFIED:20240802T183710Z
UID:547-1722693600-1722808800@dabritecup.com
SUMMARY:North East Regionals VIP
DESCRIPTION:Access to try competition entries and voting on People’s Choice. Food\, drinks(water/soda)\, sesh area/vendor access will be included. Event will be taking place near Spencer\, Massachusetts. \nEmails will be sent out for location and information about the event\, so keep a lookout for an email a few days before the event. \nALL SALES ARE FINAL. NO REFUNDS WILL BE GIVEN. If you have any questions please email us DabRiteCup@gmail.com \n\n\n\n  \n\n\n1.    Consent to Use of Likeness:\nI hereby grant DABRITE\, DABRITE CUP\, UPLATE CRW PRODUCTIONS\, its representatives\, and assigns\, the right to use my name\, voice\, likeness\, image\, and any statements or performances I provide during the event for any lawful purpose\, including but not limited to promotional\, advertising\, and marketing materials\, without further compensation or notification.\n2.    Rights and Ownership:\nI understand that DABRITE\, DABRITE CUP\, UPLATE CRW PRODUCTIONS will own all rights\, title\, and interest in any recordings\, including all video\, audio\, and photographic content captured during the event. I waive any rights I may have to inspect or approve the finished product or the use to which it may be applied.\n3.    Confidentiality:\nI agree to keep confidential and not disclose any information regarding the content or nature of the event until DABRITE\, DABRITE CUP\, UPLATE CRW PRODUCTIONS has publicly released the final product.\n4.    Release of Liability:\nI release DABRITE\, DABRITE CUP\, UPLATE CRW PRODUCTIONS\, its directors\, officers\, employees\, and agents from any and all claims\, demands\, damages\, and causes of action that I\, my heirs\, representatives\, executors\, administrators\, or any other persons acting on my behalf or on behalf of my estate\, have or may have by reason of this authorization.\n5.    No Obligation to Use:\nI understand that DABRITE\, DABRITE CUP\, UPLATE CRW PRODUCTIONS is under no obligation to use any recordings\, photographs\, or other materials that include my likeness or statements.
URL:https://dabritecup.com/event/north-east-regionals-vip/
LOCATION:Near Spencer\, Massachusetts
END:VEVENT
BEGIN:VEVENT
DTSTART;TZID=America/New_York:20240714T170000
DTEND;TZID=America/New_York:20240714T220000
DTSTAMP:20260423T085033
CREATED:20240613T194259Z
LAST-MODIFIED:20240704T101119Z
UID:516-1720976400-1720994400@dabritecup.com
SUMMARY:Alaska Regional VIP
DESCRIPTION:Access to try competition entries and voting on People’s Choice. Food\, drinks\, and sesh area will be included. \nEmails will be sent out for location and information about the event\, so keep a lookout for an email a few days before the event. \nALL SALES ARE FINAL. NO REFUNDS WILL BE GIVEN. If you have any questions please email us DabRiteCup@gmail.com \n\n\n\n  \n\n\n1.    Consent to Use of Likeness:\nI hereby grant DABRITE\, DABRITE CUP\, UPLATE CRW PRODUCTIONS\, its representatives\, and assigns\, the right to use my name\, voice\, likeness\, image\, and any statements or performances I provide during the event for any lawful purpose\, including but not limited to promotional\, advertising\, and marketing materials\, without further compensation or notification.\n2.    Rights and Ownership:\nI understand that DABRITE\, DABRITE CUP\, UPLATE CRW PRODUCTIONS will own all rights\, title\, and interest in any recordings\, including all video\, audio\, and photographic content captured during the event. I waive any rights I may have to inspect or approve the finished product or the use to which it may be applied.\n3.    Confidentiality:\nI agree to keep confidential and not disclose any information regarding the content or nature of the event until DABRITE\, DABRITE CUP\, UPLATE CRW PRODUCTIONS has publicly released the final product.\n4.    Release of Liability:\nI release DABRITE\, DABRITE CUP\, UPLATE CRW PRODUCTIONS\, its directors\, officers\, employees\, and agents from any and all claims\, demands\, damages\, and causes of action that I\, my heirs\, representatives\, executors\, administrators\, or any other persons acting on my behalf or on behalf of my estate\, have or may have by reason of this authorization.\n5.    No Obligation to Use:\nI understand that DABRITE\, DABRITE CUP\, UPLATE CRW PRODUCTIONS is under no obligation to use any recordings\, photographs\, or other materials that include my likeness or statements. \n\n\n\n\n\n\n\n\n\n\n\n 
URL:https://dabritecup.com/event/alaska-regional/
LOCATION:Anchorage\, AK – TBA
END:VEVENT
BEGIN:VEVENT
DTSTART;TZID=America/New_York:20240601T170000
DTEND;TZID=America/New_York:20240601T220000
DTSTAMP:20260423T085033
CREATED:20240522T214656Z
LAST-MODIFIED:20240601T080749Z
UID:357-1717261200-1717279200@dabritecup.com
SUMMARY:Colorado Regional
DESCRIPTION:Main Event GA – Access to vendors and voting on People’s Choice plus food\, drinks\, and sesh area.
URL:https://dabritecup.com/event/colorado-regional/
LOCATION:South Denver – Near Denver University\, United States
END:VEVENT
END:VCALENDAR